BEGIN:VCALENDAR
VERSION:2.0
PRODID:-//Le 739 - ECPv6.15.20//NONSGML v1.0//EN
CALSCALE:GREGORIAN
METHOD:PUBLISH
X-ORIGINAL-URL:https://le739.org
X-WR-CALDESC:Évènements pour Le 739
REFRESH-INTERVAL;VALUE=DURATION:PT1H
X-Robots-Tag:noindex
X-PUBLISHED-TTL:PT1H
BEGIN:VTIMEZONE
TZID:Europe/Paris
BEGIN:DAYLIGHT
TZOFFSETFROM:+0100
TZOFFSETTO:+0200
TZNAME:CEST
DTSTART:20250330T010000
END:DAYLIGHT
BEGIN:STANDARD
TZOFFSETFROM:+0200
TZOFFSETTO:+0100
TZNAME:CET
DTSTART:20251026T010000
END:STANDARD
BEGIN:DAYLIGHT
TZOFFSETFROM:+0100
TZOFFSETTO:+0200
TZNAME:CEST
DTSTART:20260329T010000
END:DAYLIGHT
BEGIN:STANDARD
TZOFFSETFROM:+0200
TZOFFSETTO:+0100
TZNAME:CET
DTSTART:20261025T010000
END:STANDARD
BEGIN:DAYLIGHT
TZOFFSETFROM:+0100
TZOFFSETTO:+0200
TZNAME:CEST
DTSTART:20270328T010000
END:DAYLIGHT
BEGIN:STANDARD
TZOFFSETFROM:+0200
TZOFFSETTO:+0100
TZNAME:CET
DTSTART:20271031T010000
END:STANDARD
END:VTIMEZONE
BEGIN:VEVENT
DTSTART;TZID=Europe/Paris:20260505T100000
DTEND;TZID=Europe/Paris:20260505T120000
DTSTAMP:20260422T195454
CREATED:20260205T122023Z
LAST-MODIFIED:20260205T122023Z
UID:4171-1777975200-1777982400@le739.org
SUMMARY:Atelier Teinture Naturelle - Cécile DROYAUX
DESCRIPTION:Un atelier de Teinture naturelle avec Cécile DROYAUX aura lieu à Centrale 7 le mardi 05 mai 2026 de 10h00 à 12h00. \n		\n				\n					\n				\n				\n									\n					\n						\n									RESERVATION
URL:https://le739.org/agenda/atelier-teinture-naturelle-cecile-droyaux-4/
LOCATION:Centrale 7\, Rue du Carreau de Bois II - Nyoiseau\, Segré-en-Anjou Bleu\, 49500\, France
ATTACH;FMTTYPE=image/webp:https://le739.org/wp-content/uploads/2026/01/cecile-droyaux-teinture.webp
ORGANIZER;CN="Le 739":MAILTO:contact@le739.org
END:VEVENT
BEGIN:VEVENT
DTSTART;TZID=Europe/Paris:20260505T100000
DTEND;TZID=Europe/Paris:20260505T120000
DTSTAMP:20260422T195454
CREATED:20260205T123700Z
LAST-MODIFIED:20260205T125020Z
UID:4176-1777975200-1777982400@le739.org
SUMMARY:Atelier scénographie « LUMINAIRE » – Carole CHARLIER
DESCRIPTION:Un atelier scénographie « Lumières de l’eau » avec Carole CHARLIER aura lieu à Centrale 7 le mardi 05 mai 2026 de 10h00 à 12h00. \n		\n				\n					\n				\n				\n									\n					\n						\n									RESERVATION
URL:https://le739.org/agenda/atelier-scenographie-luminaire-carole-charlier/
LOCATION:Centrale 7\, Rue du Carreau de Bois II - Nyoiseau\, Segré-en-Anjou Bleu\, 49500\, France
ATTACH;FMTTYPE=image/webp:https://le739.org/wp-content/uploads/2026/02/carole_charlier_evenement.webp
ORGANIZER;CN="Le 739":MAILTO:contact@le739.org
END:VEVENT
BEGIN:VEVENT
DTSTART;TZID=Europe/Paris:20260505T140000
DTEND;TZID=Europe/Paris:20260505T160000
DTSTAMP:20260422T195454
CREATED:20260205T123857Z
LAST-MODIFIED:20260205T123857Z
UID:4179-1777989600-1777996800@le739.org
SUMMARY:Atelier Teinture Naturelle - Cécile DROYAUX
DESCRIPTION:Un atelier de Teinture naturelle avec Cécile DROYAUX aura lieu à Centrale 7 le mardi 05 mai 2026 de 14h00 à 16h00. \n		\n				\n					\n				\n				\n									\n					\n						\n									RESERVATION
URL:https://le739.org/agenda/atelier-teinture-naturelle-cecile-droyaux-5/
LOCATION:Centrale 7\, Rue du Carreau de Bois II - Nyoiseau\, Segré-en-Anjou Bleu\, 49500\, France
ATTACH;FMTTYPE=image/webp:https://le739.org/wp-content/uploads/2026/01/cecile-droyaux-teinture.webp
ORGANIZER;CN="Le 739":MAILTO:contact@le739.org
END:VEVENT
BEGIN:VEVENT
DTSTART;TZID=Europe/Paris:20260505T140000
DTEND;TZID=Europe/Paris:20260505T160000
DTSTAMP:20260422T195454
CREATED:20260205T123953Z
LAST-MODIFIED:20260205T124938Z
UID:4181-1777989600-1777996800@le739.org
SUMMARY:Atelier scénographie « LUMINAIRE » – Carole CHARLIER
DESCRIPTION:Un atelier scénographie « Lumières de l’eau » avec Carole CHARLIER aura lieu à Centrale 7 le mardi 05 mai 2026 de 14h00 à 16h00. \n		\n				\n					\n				\n				\n									\n					\n						\n									RESERVATION
URL:https://le739.org/agenda/atelier-scenographie-luminaire-carole-charlier-2/
LOCATION:Centrale 7\, Rue du Carreau de Bois II - Nyoiseau\, Segré-en-Anjou Bleu\, 49500\, France
ATTACH;FMTTYPE=image/webp:https://le739.org/wp-content/uploads/2026/02/carole_charlier_evenement.webp
ORGANIZER;CN="Le 739":MAILTO:contact@le739.org
END:VEVENT
BEGIN:VEVENT
DTSTART;TZID=Europe/Paris:20260505T140000
DTEND;TZID=Europe/Paris:20260505T160000
DTSTAMP:20260422T195454
CREATED:20260205T124047Z
LAST-MODIFIED:20260205T124047Z
UID:4183-1777989600-1777996800@le739.org
SUMMARY:Atelier "Arts plastiques pour de la scénographie" - Patrick ROCARD
DESCRIPTION:Un atelier Arts plastiques pour de la scénographie ( Peinture & Sculpture) avec Patrick ROCARD  aura lieu à Centrale 7 le mardi 05 mai 2026 de 14h00 à 16h00. \n		\n				\n					\n				\n				\n									\n					\n						\n									RESERVATION
URL:https://le739.org/agenda/atelier-arts-plastiques-pour-de-la-scenographie-patrick-rocard-3/
LOCATION:Centrale 7\, Rue du Carreau de Bois II - Nyoiseau\, Segré-en-Anjou Bleu\, 49500\, France
ATTACH;FMTTYPE=image/webp:https://le739.org/wp-content/uploads/2026/01/atelier-p-rocard.webp
ORGANIZER;CN="Le 739":MAILTO:contact@le739.org
END:VEVENT
END:VCALENDAR