BEGIN:VCALENDAR
VERSION:2.0
PRODID:-//Le 739 - ECPv6.15.20//NONSGML v1.0//EN
CALSCALE:GREGORIAN
METHOD:PUBLISH
X-WR-CALNAME:Le 739
X-ORIGINAL-URL:https://le739.org
X-WR-CALDESC:Évènements pour Le 739
REFRESH-INTERVAL;VALUE=DURATION:PT1H
X-Robots-Tag:noindex
X-PUBLISHED-TTL:PT1H
BEGIN:VTIMEZONE
TZID:Europe/Paris
BEGIN:DAYLIGHT
TZOFFSETFROM:+0100
TZOFFSETTO:+0200
TZNAME:CEST
DTSTART:20250330T010000
END:DAYLIGHT
BEGIN:STANDARD
TZOFFSETFROM:+0200
TZOFFSETTO:+0100
TZNAME:CET
DTSTART:20251026T010000
END:STANDARD
BEGIN:DAYLIGHT
TZOFFSETFROM:+0100
TZOFFSETTO:+0200
TZNAME:CEST
DTSTART:20260329T010000
END:DAYLIGHT
BEGIN:STANDARD
TZOFFSETFROM:+0200
TZOFFSETTO:+0100
TZNAME:CET
DTSTART:20261025T010000
END:STANDARD
BEGIN:DAYLIGHT
TZOFFSETFROM:+0100
TZOFFSETTO:+0200
TZNAME:CEST
DTSTART:20270328T010000
END:DAYLIGHT
BEGIN:STANDARD
TZOFFSETFROM:+0200
TZOFFSETTO:+0100
TZNAME:CET
DTSTART:20271031T010000
END:STANDARD
END:VTIMEZONE
BEGIN:VEVENT
DTSTART;TZID=Europe/Paris:20260511T140000
DTEND;TZID=Europe/Paris:20260511T160000
DTSTAMP:20260422T195211
CREATED:20260216T103021Z
LAST-MODIFIED:20260216T103021Z
UID:4493-1778508000-1778515200@le739.org
SUMMARY:Atelier « Les scientifiques : Quand le son fait des vagues » - Emmanuel RANNOU
DESCRIPTION:Un atelier « Les scientifiques : Quand le son fait des vagues » avec Emmanuel RANNOU  aura lieu à Centrale 7 le lundi 11 mai 2026 de 14h00 à 16h00. \n		\n				\n					\n				\n				\n									\n					\n						\n									RESERVATION
URL:https://le739.org/agenda/atelier-les-scientifiques-quand-le-son-fait-des-vagues-emmanuel-rannou/
LOCATION:Centrale 7\, Rue du Carreau de Bois II - Nyoiseau\, Segré-en-Anjou Bleu\, 49500\, France
ATTACH;FMTTYPE=image/webp:https://le739.org/wp-content/uploads/2026/02/manu-rannou.webp
ORGANIZER;CN="Le 739":MAILTO:contact@le739.org
END:VEVENT
END:VCALENDAR