BEGIN:VCALENDAR
VERSION:2.0
PRODID:-//Le 739 - ECPv6.15.20//NONSGML v1.0//EN
CALSCALE:GREGORIAN
METHOD:PUBLISH
X-ORIGINAL-URL:https://le739.org
X-WR-CALDESC:Évènements pour Le 739
REFRESH-INTERVAL;VALUE=DURATION:PT1H
X-Robots-Tag:noindex
X-PUBLISHED-TTL:PT1H
BEGIN:VTIMEZONE
TZID:Europe/Paris
BEGIN:DAYLIGHT
TZOFFSETFROM:+0100
TZOFFSETTO:+0200
TZNAME:CEST
DTSTART:20250330T010000
END:DAYLIGHT
BEGIN:STANDARD
TZOFFSETFROM:+0200
TZOFFSETTO:+0100
TZNAME:CET
DTSTART:20251026T010000
END:STANDARD
BEGIN:DAYLIGHT
TZOFFSETFROM:+0100
TZOFFSETTO:+0200
TZNAME:CEST
DTSTART:20260329T010000
END:DAYLIGHT
BEGIN:STANDARD
TZOFFSETFROM:+0200
TZOFFSETTO:+0100
TZNAME:CET
DTSTART:20261025T010000
END:STANDARD
BEGIN:DAYLIGHT
TZOFFSETFROM:+0100
TZOFFSETTO:+0200
TZNAME:CEST
DTSTART:20270328T010000
END:DAYLIGHT
BEGIN:STANDARD
TZOFFSETFROM:+0200
TZOFFSETTO:+0100
TZNAME:CET
DTSTART:20271031T010000
END:STANDARD
END:VTIMEZONE
BEGIN:VEVENT
DTSTART;TZID=Europe/Paris:20260516T100000
DTEND;TZID=Europe/Paris:20260516T120000
DTSTAMP:20260422T195407
CREATED:20260205T144639Z
LAST-MODIFIED:20260205T144639Z
UID:4199-1778925600-1778932800@le739.org
SUMMARY:Atelier "Chant/Spectacle" - Léa BLAIRE
DESCRIPTION:Un atelier « Chant/Spectacle » avec Léa BLAIRE aura lieu à EnVol le samedi 16 mai 2026 de 10h00 à 12h00. \n		\n				\n					\n				\n				\n									\n					\n						\n									RESERVATION
URL:https://le739.org/agenda/atelier-chant-spectacle-lea-blaire-8/
LOCATION:Association EnVol\, 39 rue Charles de Gaulle\, Segré-en-Anjou-Bleu\, 49500\, France
ATTACH;FMTTYPE=image/png:https://le739.org/wp-content/uploads/2026/01/lea_chant.png
ORGANIZER;CN="Le 739":MAILTO:contact@le739.org
END:VEVENT
END:VCALENDAR