BEGIN:VCALENDAR
VERSION:2.0
PRODID:-//Le 739 - ECPv6.15.20//NONSGML v1.0//EN
CALSCALE:GREGORIAN
METHOD:PUBLISH
X-ORIGINAL-URL:https://le739.org
X-WR-CALDESC:Évènements pour Le 739
REFRESH-INTERVAL;VALUE=DURATION:PT1H
X-Robots-Tag:noindex
X-PUBLISHED-TTL:PT1H
BEGIN:VTIMEZONE
TZID:Europe/Paris
BEGIN:DAYLIGHT
TZOFFSETFROM:+0100
TZOFFSETTO:+0200
TZNAME:CEST
DTSTART:20250330T010000
END:DAYLIGHT
BEGIN:STANDARD
TZOFFSETFROM:+0200
TZOFFSETTO:+0100
TZNAME:CET
DTSTART:20251026T010000
END:STANDARD
BEGIN:DAYLIGHT
TZOFFSETFROM:+0100
TZOFFSETTO:+0200
TZNAME:CEST
DTSTART:20260329T010000
END:DAYLIGHT
BEGIN:STANDARD
TZOFFSETFROM:+0200
TZOFFSETTO:+0100
TZNAME:CET
DTSTART:20261025T010000
END:STANDARD
BEGIN:DAYLIGHT
TZOFFSETFROM:+0100
TZOFFSETTO:+0200
TZNAME:CEST
DTSTART:20270328T010000
END:DAYLIGHT
BEGIN:STANDARD
TZOFFSETFROM:+0200
TZOFFSETTO:+0100
TZNAME:CET
DTSTART:20271031T010000
END:STANDARD
END:VTIMEZONE
BEGIN:VEVENT
DTSTART;TZID=Europe/Paris:20260605T160000
DTEND;TZID=Europe/Paris:20260605T190000
DTSTAMP:20260422T212926
CREATED:20260205T145917Z
LAST-MODIFIED:20260205T145917Z
UID:4212-1780675200-1780686000@le739.org
SUMMARY:Atelier "Chant/Spectacle" - Léa BLAIRE
DESCRIPTION:Un atelier « Chant/Spectacle » avec Léa BLAIRE aura lieu à EnVol le vendredi 05 juin 2026 de 16h00 à 19h00. \n		\n				\n					\n				\n				\n									\n					\n						\n									RESERVATION
URL:https://le739.org/agenda/atelier-chant-spectacle-lea-blaire-13/
LOCATION:Association EnVol\, 39 rue Charles de Gaulle\, Segré-en-Anjou-Bleu\, 49500\, France
ATTACH;FMTTYPE=image/png:https://le739.org/wp-content/uploads/2026/01/lea_chant.png
ORGANIZER;CN="Le 739":MAILTO:contact@le739.org
END:VEVENT
END:VCALENDAR