BEGIN:VCALENDAR
VERSION:2.0
PRODID:-//Le 739 - ECPv6.15.20//NONSGML v1.0//EN
CALSCALE:GREGORIAN
METHOD:PUBLISH
X-WR-CALNAME:Le 739
X-ORIGINAL-URL:https://le739.org
X-WR-CALDESC:Évènements pour Le 739
REFRESH-INTERVAL;VALUE=DURATION:PT1H
X-Robots-Tag:noindex
X-PUBLISHED-TTL:PT1H
BEGIN:VTIMEZONE
TZID:Europe/Paris
BEGIN:DAYLIGHT
TZOFFSETFROM:+0100
TZOFFSETTO:+0200
TZNAME:CEST
DTSTART:20250330T010000
END:DAYLIGHT
BEGIN:STANDARD
TZOFFSETFROM:+0200
TZOFFSETTO:+0100
TZNAME:CET
DTSTART:20251026T010000
END:STANDARD
BEGIN:DAYLIGHT
TZOFFSETFROM:+0100
TZOFFSETTO:+0200
TZNAME:CEST
DTSTART:20260329T010000
END:DAYLIGHT
BEGIN:STANDARD
TZOFFSETFROM:+0200
TZOFFSETTO:+0100
TZNAME:CET
DTSTART:20261025T010000
END:STANDARD
BEGIN:DAYLIGHT
TZOFFSETFROM:+0100
TZOFFSETTO:+0200
TZNAME:CEST
DTSTART:20270328T010000
END:DAYLIGHT
BEGIN:STANDARD
TZOFFSETFROM:+0200
TZOFFSETTO:+0100
TZNAME:CET
DTSTART:20271031T010000
END:STANDARD
END:VTIMEZONE
BEGIN:VEVENT
DTSTART;TZID=Europe/Paris:20260422T140000
DTEND;TZID=Europe/Paris:20260422T160000
DTSTAMP:20260422T125522
CREATED:20260205T105129Z
LAST-MODIFIED:20260205T105600Z
UID:4144-1776866400-1776873600@le739.org
SUMMARY:Atelier "Fontaine Rosalie" - Dominique SIMON et Étienne BOURON
DESCRIPTION:Un atelier « Fontaine Rosalie » avec Dominique SIMON et Étienne BOURON aura lieu à Centrale 7 le mercredi 22 avril 2026 de 14h00 à 16h00. \n		\n				\n					\n				\n				\n									\n					\n						\n									RESERVATION
URL:https://le739.org/agenda/atelier-fontaine-rosalie-dominique-simon-et-etienne-bouron-6/
LOCATION:Centrale 7\, Rue du Carreau de Bois II - Nyoiseau\, Segré-en-Anjou Bleu\, 49500\, France
ATTACH;FMTTYPE=image/png:https://le739.org/wp-content/uploads/2026/01/fontaine-rosalie-2.png
ORGANIZER;CN="Le 739":MAILTO:contact@le739.org
END:VEVENT
BEGIN:VEVENT
DTSTART;TZID=Europe/Paris:20260422T140000
DTEND;TZID=Europe/Paris:20260422T160000
DTSTAMP:20260422T125522
CREATED:20260205T105228Z
LAST-MODIFIED:20260205T105723Z
UID:4146-1776866400-1776873600@le739.org
SUMMARY:Atelier "créations textile & tenues pour un défilé" - Manon RENAULT
DESCRIPTION:Un atelier « créations textile & tenues pour un défilé » avec Manon RENAULT aura lieu à Centrale 7 le mercredi 22 avril 2026 de 14h00 à 16h00. \n		\n				\n					\n				\n				\n									\n					\n						\n									RESERVATION
URL:https://le739.org/agenda/atelier-creations-textile-tenues-pour-un-defile-manon-renault-9/
LOCATION:Centrale 7\, Rue du Carreau de Bois II - Nyoiseau\, Segré-en-Anjou Bleu\, 49500\, France
ATTACH;FMTTYPE=image/webp:https://le739.org/wp-content/uploads/2026/01/manon-renault-defile.webp
ORGANIZER;CN="Le 739":MAILTO:contact@le739.org
END:VEVENT
BEGIN:VEVENT
DTSTART;TZID=Europe/Paris:20260423T183000
DTEND;TZID=Europe/Paris:20260423T193000
DTSTAMP:20260422T125522
CREATED:20260205T105401Z
LAST-MODIFIED:20260205T105401Z
UID:4148-1776969000-1776972600@le739.org
SUMMARY:Atelier "Voyage Sonore" - Léa BLAIRE
DESCRIPTION:Un atelier « Voyage Sonore » avec Léa BLAIRE aura lieu au Groupe Milon le jeudi 23 avril 2026 de 18h30 à 19h30. \n		\n				\n					\n				\n				\n									\n					\n						\n									RESERVATION
URL:https://le739.org/agenda/atelier-voyage-sonore-lea-blaire-4/
LOCATION:Espace Groupe Milon\, Rue de la Roirie\, Segré-en-Anjou-Bleu\, 49500\, France
ATTACH;FMTTYPE=image/jpeg:https://le739.org/wp-content/uploads/2026/01/lea-blaire_chant-calendar.jpg
ORGANIZER;CN="Le 739":MAILTO:contact@le739.org
END:VEVENT
BEGIN:VEVENT
DTSTART;TZID=Europe/Paris:20260423T200000
DTEND;TZID=Europe/Paris:20260423T210000
DTSTAMP:20260422T125522
CREATED:20260205T105528Z
LAST-MODIFIED:20260205T105528Z
UID:4149-1776974400-1776978000@le739.org
SUMMARY:Atelier « Patrimoine & Jeu d'écriture » – Léa BLAIRE
DESCRIPTION:Un atelier « Patrimoine & Jeu d’écriture » avec Léa BLAIRE aura lieu à EnVol le jeudi 23 avril 2026 de 20h00 à 21h00. \n		\n				\n					\n				\n				\n									\n					\n						\n									RESERVATION
URL:https://le739.org/agenda/atelier-patrimoine-jeu-decriture-lea-blaire-4/
LOCATION:Association EnVol\, 39 rue Charles de Gaulle\, Segré-en-Anjou-Bleu\, 49500\, France
ATTACH;FMTTYPE=image/jpeg:https://le739.org/wp-content/uploads/2026/01/lea-ecriture.jpg
ORGANIZER;CN="Le 739":MAILTO:contact@le739.org
END:VEVENT
BEGIN:VEVENT
DTSTART;TZID=Europe/Paris:20260424T093000
DTEND;TZID=Europe/Paris:20260424T120000
DTSTAMP:20260422T125522
CREATED:20260205T105931Z
LAST-MODIFIED:20260205T105931Z
UID:4154-1777023000-1777032000@le739.org
SUMMARY:Atelier "Fontaine Rosalie" - Dominique SIMON et Étienne BOURON
DESCRIPTION:Un atelier « Fontaine Rosalie » avec Dominique SIMON et Étienne BOURON aura lieu à Centrale 7 le vendredi 24 avril 2026 de 09h30 à 12h00. \n		\n				\n					\n				\n				\n									\n					\n						\n									RESERVATION
URL:https://le739.org/agenda/atelier-fontaine-rosalie-dominique-simon-et-etienne-bouron-7/
LOCATION:Centrale 7\, Rue du Carreau de Bois II - Nyoiseau\, Segré-en-Anjou Bleu\, 49500\, France
ATTACH;FMTTYPE=image/png:https://le739.org/wp-content/uploads/2026/01/fontaine-rosalie-2.png
ORGANIZER;CN="Le 739":MAILTO:contact@le739.org
END:VEVENT
BEGIN:VEVENT
DTSTART;TZID=Europe/Paris:20260424T101500
DTEND;TZID=Europe/Paris:20260424T114500
DTSTAMP:20260422T125522
CREATED:20260212T101942Z
LAST-MODIFIED:20260212T101942Z
UID:4465-1777025700-1777031100@le739.org
SUMMARY:Atelier "Dance & Pilates" - VIRÀG Éri
DESCRIPTION:Un atelier « Dance & Pilates » avec VIRÀG Éri aura lieu à Centrale 7 le vendredi 24 avril 2026 de 10h15 à 11h45. \n		\n				\n					\n				\n				\n									\n					\n						\n									RESERVATION
URL:https://le739.org/agenda/atelier-dance-pilates-virag-eri-2/
LOCATION:Centrale 7\, Rue du Carreau de Bois II - Nyoiseau\, Segré-en-Anjou Bleu\, 49500\, France
ATTACH;FMTTYPE=image/webp:https://le739.org/wp-content/uploads/2026/01/danse-virag.webp
ORGANIZER;CN="Le 739":MAILTO:contact@le739.org
END:VEVENT
BEGIN:VEVENT
DTSTART;TZID=Europe/Paris:20260424T133000
DTEND;TZID=Europe/Paris:20260424T160000
DTSTAMP:20260422T125522
CREATED:20260205T110011Z
LAST-MODIFIED:20260205T110024Z
UID:4155-1777037400-1777046400@le739.org
SUMMARY:Atelier "Fontaine Rosalie" - Dominique SIMON et Étienne BOURON
DESCRIPTION:Un atelier « Fontaine Rosalie » avec Dominique SIMON et Étienne BOURON aura lieu à Centrale 7 le vendredi 24 avril 2026 de 13h30 à 16h00. \n		\n				\n					\n				\n				\n									\n					\n						\n									RESERVATION
URL:https://le739.org/agenda/atelier-fontaine-rosalie-dominique-simon-et-etienne-bouron-8/
LOCATION:Centrale 7\, Rue du Carreau de Bois II - Nyoiseau\, Segré-en-Anjou Bleu\, 49500\, France
ATTACH;FMTTYPE=image/png:https://le739.org/wp-content/uploads/2026/01/fontaine-rosalie-2.png
ORGANIZER;CN="Le 739":MAILTO:contact@le739.org
END:VEVENT
BEGIN:VEVENT
DTSTART;TZID=Europe/Paris:20260425T100000
DTEND;TZID=Europe/Paris:20260425T120000
DTSTAMP:20260422T125522
CREATED:20260205T110200Z
LAST-MODIFIED:20260205T110200Z
UID:4159-1777111200-1777118400@le739.org
SUMMARY:Atelier "Chant/Spectacle" - Léa BLAIRE
DESCRIPTION:Un atelier « Chant/Spectacle » avec Léa BLAIRE aura lieu à EnVol le samedi 25 avril 2026 de 10h00 à 12h00. \n		\n				\n					\n				\n				\n									\n					\n						\n									RESERVATION
URL:https://le739.org/agenda/atelier-chant-spectacle-lea-blaire-6/
LOCATION:Association EnVol\, 39 rue Charles de Gaulle\, Segré-en-Anjou-Bleu\, 49500\, France
ATTACH;FMTTYPE=image/png:https://le739.org/wp-content/uploads/2026/01/lea_chant.png
ORGANIZER;CN="Le 739":MAILTO:contact@le739.org
END:VEVENT
BEGIN:VEVENT
DTSTART;TZID=Europe/Paris:20260425T100000
DTEND;TZID=Europe/Paris:20260425T120000
DTSTAMP:20260422T125522
CREATED:20260205T110715Z
LAST-MODIFIED:20260205T110849Z
UID:4162-1777111200-1777118400@le739.org
SUMMARY:Atelier "créations textile & tenues pour un défilé" - Manon RENAULT
DESCRIPTION:Un atelier « créations textile & tenues pour un défilé » avec Manon RENAULT aura lieu à Centrale 7 le samedi 25 avril 2026 de 14h00 à 16h00. \n		\n				\n					\n				\n				\n									\n					\n						\n									RESERVATION
URL:https://le739.org/agenda/atelier-creations-textile-tenues-pour-un-defile-manon-renault-10/
LOCATION:Association EnVol\, 39 rue Charles de Gaulle\, Segré-en-Anjou-Bleu\, 49500\, France
ATTACH;FMTTYPE=image/webp:https://le739.org/wp-content/uploads/2026/01/manon-renault-defile.webp
ORGANIZER;CN="Le 739":MAILTO:contact@le739.org
END:VEVENT
BEGIN:VEVENT
DTSTART;TZID=Europe/Paris:20260427T140000
DTEND;TZID=Europe/Paris:20260427T160000
DTSTAMP:20260422T125522
CREATED:20260216T102819Z
LAST-MODIFIED:20260216T103053Z
UID:4490-1777298400-1777305600@le739.org
SUMMARY:Atelier « Les scientifiques : Quand le son fait des vagues » - Emmanuel RANNOU
DESCRIPTION:Un atelier « Les scientifiques : Quand le son fait des vagues » avec Emmanuel RANNOU  aura lieu à Centrale 7 le lundi 27 avril 2026 de 14h00 à 16h00. \n		\n				\n					\n				\n				\n									\n					\n						\n									RESERVATION
URL:https://le739.org/agenda/atelier-les-scientifiques-manu-rannou-1/
LOCATION:Centrale 7\, Rue du Carreau de Bois II - Nyoiseau\, Segré-en-Anjou Bleu\, 49500\, France
ATTACH;FMTTYPE=image/webp:https://le739.org/wp-content/uploads/2026/02/manu-rannou.webp
ORGANIZER;CN="Le 739":MAILTO:contact@le739.org
END:VEVENT
BEGIN:VEVENT
DTSTART;TZID=Europe/Paris:20260502T100000
DTEND;TZID=Europe/Paris:20260502T120000
DTSTAMP:20260422T125522
CREATED:20260205T111057Z
LAST-MODIFIED:20260205T111057Z
UID:4165-1777716000-1777723200@le739.org
SUMMARY:Atelier "Chant/Spectacle" - Léa BLAIRE
DESCRIPTION:Un atelier « Chant/Spectacle » avec Léa BLAIRE aura lieu à EnVol le samedi 02 mai 2026 de 10h00 à 12h00. \n		\n				\n					\n				\n				\n									\n					\n						\n									RESERVATION
URL:https://le739.org/agenda/atelier-chant-spectacle-lea-blaire-7/
LOCATION:Association EnVol\, 39 rue Charles de Gaulle\, Segré-en-Anjou-Bleu\, 49500\, France
ATTACH;FMTTYPE=image/png:https://le739.org/wp-content/uploads/2026/01/lea_chant.png
ORGANIZER;CN="Le 739":MAILTO:contact@le739.org
END:VEVENT
BEGIN:VEVENT
DTSTART;TZID=Europe/Paris:20260505T100000
DTEND;TZID=Europe/Paris:20260505T120000
DTSTAMP:20260422T125522
CREATED:20260205T122023Z
LAST-MODIFIED:20260205T122023Z
UID:4171-1777975200-1777982400@le739.org
SUMMARY:Atelier Teinture Naturelle - Cécile DROYAUX
DESCRIPTION:Un atelier de Teinture naturelle avec Cécile DROYAUX aura lieu à Centrale 7 le mardi 05 mai 2026 de 10h00 à 12h00. \n		\n				\n					\n				\n				\n									\n					\n						\n									RESERVATION
URL:https://le739.org/agenda/atelier-teinture-naturelle-cecile-droyaux-4/
LOCATION:Centrale 7\, Rue du Carreau de Bois II - Nyoiseau\, Segré-en-Anjou Bleu\, 49500\, France
ATTACH;FMTTYPE=image/webp:https://le739.org/wp-content/uploads/2026/01/cecile-droyaux-teinture.webp
ORGANIZER;CN="Le 739":MAILTO:contact@le739.org
END:VEVENT
BEGIN:VEVENT
DTSTART;TZID=Europe/Paris:20260505T100000
DTEND;TZID=Europe/Paris:20260505T120000
DTSTAMP:20260422T125522
CREATED:20260205T123700Z
LAST-MODIFIED:20260205T125020Z
UID:4176-1777975200-1777982400@le739.org
SUMMARY:Atelier scénographie « LUMINAIRE » – Carole CHARLIER
DESCRIPTION:Un atelier scénographie « Lumières de l’eau » avec Carole CHARLIER aura lieu à Centrale 7 le mardi 05 mai 2026 de 10h00 à 12h00. \n		\n				\n					\n				\n				\n									\n					\n						\n									RESERVATION
URL:https://le739.org/agenda/atelier-scenographie-luminaire-carole-charlier/
LOCATION:Centrale 7\, Rue du Carreau de Bois II - Nyoiseau\, Segré-en-Anjou Bleu\, 49500\, France
ATTACH;FMTTYPE=image/webp:https://le739.org/wp-content/uploads/2026/02/carole_charlier_evenement.webp
ORGANIZER;CN="Le 739":MAILTO:contact@le739.org
END:VEVENT
BEGIN:VEVENT
DTSTART;TZID=Europe/Paris:20260505T140000
DTEND;TZID=Europe/Paris:20260505T160000
DTSTAMP:20260422T125522
CREATED:20260205T123857Z
LAST-MODIFIED:20260205T123857Z
UID:4179-1777989600-1777996800@le739.org
SUMMARY:Atelier Teinture Naturelle - Cécile DROYAUX
DESCRIPTION:Un atelier de Teinture naturelle avec Cécile DROYAUX aura lieu à Centrale 7 le mardi 05 mai 2026 de 14h00 à 16h00. \n		\n				\n					\n				\n				\n									\n					\n						\n									RESERVATION
URL:https://le739.org/agenda/atelier-teinture-naturelle-cecile-droyaux-5/
LOCATION:Centrale 7\, Rue du Carreau de Bois II - Nyoiseau\, Segré-en-Anjou Bleu\, 49500\, France
ATTACH;FMTTYPE=image/webp:https://le739.org/wp-content/uploads/2026/01/cecile-droyaux-teinture.webp
ORGANIZER;CN="Le 739":MAILTO:contact@le739.org
END:VEVENT
BEGIN:VEVENT
DTSTART;TZID=Europe/Paris:20260505T140000
DTEND;TZID=Europe/Paris:20260505T160000
DTSTAMP:20260422T125522
CREATED:20260205T123953Z
LAST-MODIFIED:20260205T124938Z
UID:4181-1777989600-1777996800@le739.org
SUMMARY:Atelier scénographie « LUMINAIRE » – Carole CHARLIER
DESCRIPTION:Un atelier scénographie « Lumières de l’eau » avec Carole CHARLIER aura lieu à Centrale 7 le mardi 05 mai 2026 de 14h00 à 16h00. \n		\n				\n					\n				\n				\n									\n					\n						\n									RESERVATION
URL:https://le739.org/agenda/atelier-scenographie-luminaire-carole-charlier-2/
LOCATION:Centrale 7\, Rue du Carreau de Bois II - Nyoiseau\, Segré-en-Anjou Bleu\, 49500\, France
ATTACH;FMTTYPE=image/webp:https://le739.org/wp-content/uploads/2026/02/carole_charlier_evenement.webp
ORGANIZER;CN="Le 739":MAILTO:contact@le739.org
END:VEVENT
BEGIN:VEVENT
DTSTART;TZID=Europe/Paris:20260505T140000
DTEND;TZID=Europe/Paris:20260505T160000
DTSTAMP:20260422T125522
CREATED:20260205T124047Z
LAST-MODIFIED:20260205T124047Z
UID:4183-1777989600-1777996800@le739.org
SUMMARY:Atelier "Arts plastiques pour de la scénographie" - Patrick ROCARD
DESCRIPTION:Un atelier Arts plastiques pour de la scénographie ( Peinture & Sculpture) avec Patrick ROCARD  aura lieu à Centrale 7 le mardi 05 mai 2026 de 14h00 à 16h00. \n		\n				\n					\n				\n				\n									\n					\n						\n									RESERVATION
URL:https://le739.org/agenda/atelier-arts-plastiques-pour-de-la-scenographie-patrick-rocard-3/
LOCATION:Centrale 7\, Rue du Carreau de Bois II - Nyoiseau\, Segré-en-Anjou Bleu\, 49500\, France
ATTACH;FMTTYPE=image/webp:https://le739.org/wp-content/uploads/2026/01/atelier-p-rocard.webp
ORGANIZER;CN="Le 739":MAILTO:contact@le739.org
END:VEVENT
BEGIN:VEVENT
DTSTART;TZID=Europe/Paris:20260506T100000
DTEND;TZID=Europe/Paris:20260506T120000
DTSTAMP:20260422T125522
CREATED:20260205T143742Z
LAST-MODIFIED:20260205T143742Z
UID:4190-1778061600-1778068800@le739.org
SUMMARY:Atelier scénographie « LUMINAIRE » – Carole CHARLIER
DESCRIPTION:Un atelier scénographie « Lumières de l’eau » avec Carole CHARLIER aura lieu à Centrale 7 le mercredi 06 mai 2026 de 10h00 à 12h00. \n		\n				\n					\n				\n				\n									\n					\n						\n									RESERVATION
URL:https://le739.org/agenda/atelier-scenographie-luminaire-carole-charlier-3/
LOCATION:Centrale 7\, Rue du Carreau de Bois II - Nyoiseau\, Segré-en-Anjou Bleu\, 49500\, France
ATTACH;FMTTYPE=image/webp:https://le739.org/wp-content/uploads/2026/02/carole_charlier_evenement.webp
ORGANIZER;CN="Le 739":MAILTO:contact@le739.org
END:VEVENT
BEGIN:VEVENT
DTSTART;TZID=Europe/Paris:20260506T140000
DTEND;TZID=Europe/Paris:20260506T160000
DTSTAMP:20260422T125522
CREATED:20260205T143813Z
LAST-MODIFIED:20260205T143813Z
UID:4189-1778076000-1778083200@le739.org
SUMMARY:Atelier scénographie « LUMINAIRE » – Carole CHARLIER
DESCRIPTION:Un atelier scénographie « Lumières de l’eau » avec Carole CHARLIER aura lieu à Centrale 7 le mercredi 06 mai 2026 de 14h00 à 16h00. \n		\n				\n					\n				\n				\n									\n					\n						\n									RESERVATION
URL:https://le739.org/agenda/atelier-scenographie-luminaire-carole-charlier-4/
LOCATION:Centrale 7\, Rue du Carreau de Bois II - Nyoiseau\, Segré-en-Anjou Bleu\, 49500\, France
ATTACH;FMTTYPE=image/webp:https://le739.org/wp-content/uploads/2026/02/carole_charlier_evenement.webp
ORGANIZER;CN="Le 739":MAILTO:contact@le739.org
END:VEVENT
BEGIN:VEVENT
DTSTART;TZID=Europe/Paris:20260506T140000
DTEND;TZID=Europe/Paris:20260506T160000
DTSTAMP:20260422T125522
CREATED:20260205T144346Z
LAST-MODIFIED:20260205T144346Z
UID:4195-1778076000-1778083200@le739.org
SUMMARY:Atelier "créations textile & tenues pour un défilé" - Manon RENAULT
DESCRIPTION:Un atelier « créations textile & tenues pour un défilé » avec Manon RENAULT aura lieu à Centrale 7 le mercredi 06 mai 2026 de 14h00 à 16h00. \n		\n				\n					\n				\n				\n									\n					\n						\n									RESERVATION
URL:https://le739.org/agenda/atelier-creations-textile-tenues-pour-un-defile-manon-renault-11/
LOCATION:Centrale 7\, Rue du Carreau de Bois II - Nyoiseau\, Segré-en-Anjou Bleu\, 49500\, France
ATTACH;FMTTYPE=image/webp:https://le739.org/wp-content/uploads/2026/01/manon-renault-defile.webp
ORGANIZER;CN="Le 739":MAILTO:contact@le739.org
END:VEVENT
BEGIN:VEVENT
DTSTART;TZID=Europe/Paris:20260507T100000
DTEND;TZID=Europe/Paris:20260507T120000
DTSTAMP:20260422T125522
CREATED:20260205T143930Z
LAST-MODIFIED:20260205T143930Z
UID:4187-1778148000-1778155200@le739.org
SUMMARY:Atelier scénographie « LUMINAIRE » – Carole CHARLIER
DESCRIPTION:Un atelier scénographie « Lumières de l’eau » avec Carole CHARLIER aura lieu à Centrale 7 le jeudi 07 mai 2026 de 10h00 à 12h00. \n		\n				\n					\n				\n				\n									\n					\n						\n									RESERVATION
URL:https://le739.org/agenda/atelier-scenographie-luminaire-carole-charlier-6/
LOCATION:Centrale 7\, Rue du Carreau de Bois II - Nyoiseau\, Segré-en-Anjou Bleu\, 49500\, France
ATTACH;FMTTYPE=image/webp:https://le739.org/wp-content/uploads/2026/02/carole_charlier_evenement.webp
ORGANIZER;CN="Le 739":MAILTO:contact@le739.org
END:VEVENT
BEGIN:VEVENT
DTSTART;TZID=Europe/Paris:20260507T140000
DTEND;TZID=Europe/Paris:20260507T160000
DTSTAMP:20260422T125522
CREATED:20260205T143852Z
LAST-MODIFIED:20260205T144141Z
UID:4188-1778162400-1778169600@le739.org
SUMMARY:Atelier scénographie « LUMINAIRE » – Carole CHARLIER
DESCRIPTION:Un atelier scénographie « Lumières de l’eau » avec Carole CHARLIER aura lieu à Centrale 7 le jeudi 07 mai 2026 de 14h00 à 16h00. \n		\n				\n					\n				\n				\n									\n					\n						\n									RESERVATION
URL:https://le739.org/agenda/atelier-scenographie-luminaire-carole-charlier-5/
LOCATION:Centrale 7\, Rue du Carreau de Bois II - Nyoiseau\, Segré-en-Anjou Bleu\, 49500\, France
ATTACH;FMTTYPE=image/webp:https://le739.org/wp-content/uploads/2026/02/carole_charlier_evenement.webp
ORGANIZER;CN="Le 739":MAILTO:contact@le739.org
END:VEVENT
BEGIN:VEVENT
DTSTART;TZID=Europe/Paris:20260511T140000
DTEND;TZID=Europe/Paris:20260511T160000
DTSTAMP:20260422T125522
CREATED:20260216T103021Z
LAST-MODIFIED:20260216T103021Z
UID:4493-1778508000-1778515200@le739.org
SUMMARY:Atelier « Les scientifiques : Quand le son fait des vagues » - Emmanuel RANNOU
DESCRIPTION:Un atelier « Les scientifiques : Quand le son fait des vagues » avec Emmanuel RANNOU  aura lieu à Centrale 7 le lundi 11 mai 2026 de 14h00 à 16h00. \n		\n				\n					\n				\n				\n									\n					\n						\n									RESERVATION
URL:https://le739.org/agenda/atelier-les-scientifiques-quand-le-son-fait-des-vagues-emmanuel-rannou/
LOCATION:Centrale 7\, Rue du Carreau de Bois II - Nyoiseau\, Segré-en-Anjou Bleu\, 49500\, France
ATTACH;FMTTYPE=image/webp:https://le739.org/wp-content/uploads/2026/02/manu-rannou.webp
ORGANIZER;CN="Le 739":MAILTO:contact@le739.org
END:VEVENT
BEGIN:VEVENT
DTSTART;TZID=Europe/Paris:20260513T140000
DTEND;TZID=Europe/Paris:20260513T160000
DTSTAMP:20260422T125522
CREATED:20260205T144506Z
LAST-MODIFIED:20260205T144506Z
UID:4197-1778680800-1778688000@le739.org
SUMMARY:Atelier "créations textile & tenues pour un défilé" - Manon RENAULT
DESCRIPTION:Un atelier « créations textile & tenues pour un défilé » avec Manon RENAULT aura lieu à Centrale 7 le mercredi 13 mai 2026 de 14h00 à 16h00. \n		\n				\n					\n				\n				\n									\n					\n						\n									RESERVATION
URL:https://le739.org/agenda/atelier-creations-textile-tenues-pour-un-defile-manon-renault-12/
LOCATION:Centrale 7\, Rue du Carreau de Bois II - Nyoiseau\, Segré-en-Anjou Bleu\, 49500\, France
ATTACH;FMTTYPE=image/webp:https://le739.org/wp-content/uploads/2026/01/manon-renault-defile.webp
ORGANIZER;CN="Le 739":MAILTO:contact@le739.org
END:VEVENT
BEGIN:VEVENT
DTSTART;TZID=Europe/Paris:20260516T100000
DTEND;TZID=Europe/Paris:20260516T120000
DTSTAMP:20260422T125522
CREATED:20260205T144639Z
LAST-MODIFIED:20260205T144639Z
UID:4199-1778925600-1778932800@le739.org
SUMMARY:Atelier "Chant/Spectacle" - Léa BLAIRE
DESCRIPTION:Un atelier « Chant/Spectacle » avec Léa BLAIRE aura lieu à EnVol le samedi 16 mai 2026 de 10h00 à 12h00. \n		\n				\n					\n				\n				\n									\n					\n						\n									RESERVATION
URL:https://le739.org/agenda/atelier-chant-spectacle-lea-blaire-8/
LOCATION:Association EnVol\, 39 rue Charles de Gaulle\, Segré-en-Anjou-Bleu\, 49500\, France
ATTACH;FMTTYPE=image/png:https://le739.org/wp-content/uploads/2026/01/lea_chant.png
ORGANIZER;CN="Le 739":MAILTO:contact@le739.org
END:VEVENT
BEGIN:VEVENT
DTSTART;TZID=Europe/Paris:20260520T100000
DTEND;TZID=Europe/Paris:20260520T120000
DTSTAMP:20260422T125522
CREATED:20260205T144854Z
LAST-MODIFIED:20260205T144854Z
UID:4201-1779271200-1779278400@le739.org
SUMMARY:Atelier "Décors - Tisser l'avenir" - Paul KWIATWOKSKI
DESCRIPTION:Un atelier « Décors – Tisser l’avenir » avec Paul KWIATWOKSKI  aura lieu à Centrale 7 le mercredi 20 mai 2026 de 10h00 à 12h00. \n		\n				\n					\n				\n				\n									\n					\n						\n									RESERVATION
URL:https://le739.org/agenda/atelier-decors-tisser-lavenir-paul-kwiatwokski-7/
LOCATION:Centrale 7\, Rue du Carreau de Bois II - Nyoiseau\, Segré-en-Anjou Bleu\, 49500\, France
ATTACH;FMTTYPE=image/png:https://le739.org/wp-content/uploads/2026/01/paul_k_art1.png
ORGANIZER;CN="Le 739":MAILTO:contact@le739.org
END:VEVENT
BEGIN:VEVENT
DTSTART;TZID=Europe/Paris:20260520T140000
DTEND;TZID=Europe/Paris:20260520T160000
DTSTAMP:20260422T125522
CREATED:20260205T145017Z
LAST-MODIFIED:20260205T145017Z
UID:4203-1779285600-1779292800@le739.org
SUMMARY:Atelier "Chant/Spectacle" - Léa BLAIRE
DESCRIPTION:Un atelier « Chant/Spectacle » avec Léa BLAIRE aura lieu à Centrale 7 le mercredi 20 mai 2026 de 14h00 à 16h00. \n		\n				\n					\n				\n				\n									\n					\n						\n									RESERVATION
URL:https://le739.org/agenda/atelier-chant-spectacle-lea-blaire-9/
LOCATION:Centrale 7\, Rue du Carreau de Bois II - Nyoiseau\, Segré-en-Anjou Bleu\, 49500\, France
ATTACH;FMTTYPE=image/png:https://le739.org/wp-content/uploads/2026/01/lea_chant.png
ORGANIZER;CN="Le 739":MAILTO:contact@le739.org
END:VEVENT
BEGIN:VEVENT
DTSTART;TZID=Europe/Paris:20260522T093000
DTEND;TZID=Europe/Paris:20260522T120000
DTSTAMP:20260422T125522
CREATED:20260205T145216Z
LAST-MODIFIED:20260205T145216Z
UID:4205-1779442200-1779451200@le739.org
SUMMARY:Atelier "Fontaine Rosalie" - Dominique SIMON et Étienne BOURON
DESCRIPTION:Un atelier « Fontaine Rosalie » avec Dominique SIMON et Étienne BOURON aura lieu à Centrale 7 le vendredi 22 mai 2026 de 09h30 à 12h00. \n		\n				\n					\n				\n				\n									\n					\n						\n									RESERVATION
URL:https://le739.org/agenda/atelier-fontaine-rosalie-dominique-simon-et-etienne-bouron-9/
LOCATION:Centrale 7\, Rue du Carreau de Bois II - Nyoiseau\, Segré-en-Anjou Bleu\, 49500\, France
ATTACH;FMTTYPE=image/png:https://le739.org/wp-content/uploads/2026/01/fontaine-rosalie-2.png
ORGANIZER;CN="Le 739":MAILTO:contact@le739.org
END:VEVENT
BEGIN:VEVENT
DTSTART;TZID=Europe/Paris:20260522T101500
DTEND;TZID=Europe/Paris:20260522T114500
DTSTAMP:20260422T125522
CREATED:20260212T102040Z
LAST-MODIFIED:20260212T102040Z
UID:4467-1779444900-1779450300@le739.org
SUMMARY:Atelier "Dance & Pilates" - VIRÀG Éri
DESCRIPTION:Un atelier « Dance & Pilates » avec VIRÀG Éri aura lieu à Centrale 7 le vendredi 22 mai 2026 de 10h15 à 11h45. \n		\n				\n					\n				\n				\n									\n					\n						\n									RESERVATION
URL:https://le739.org/agenda/atelier-dance-pilates-virag-eri-3/
LOCATION:Centrale 7\, Rue du Carreau de Bois II - Nyoiseau\, Segré-en-Anjou Bleu\, 49500\, France
ATTACH;FMTTYPE=image/webp:https://le739.org/wp-content/uploads/2026/01/danse-virag.webp
ORGANIZER;CN="Le 739":MAILTO:contact@le739.org
END:VEVENT
BEGIN:VEVENT
DTSTART;TZID=Europe/Paris:20260522T133000
DTEND;TZID=Europe/Paris:20260522T160000
DTSTAMP:20260422T125522
CREATED:20260205T145250Z
LAST-MODIFIED:20260205T145250Z
UID:4206-1779456600-1779465600@le739.org
SUMMARY:Atelier "Fontaine Rosalie" - Dominique SIMON et Étienne BOURON
DESCRIPTION:Un atelier « Fontaine Rosalie » avec Dominique SIMON et Étienne BOURON aura lieu à Centrale 7 le vendredi 22 mai 2026 de 13h30 à 16h00. \n		\n				\n					\n				\n				\n									\n					\n						\n									RESERVATION
URL:https://le739.org/agenda/atelier-fontaine-rosalie-dominique-simon-et-etienne-bouron-10/
LOCATION:Centrale 7\, Rue du Carreau de Bois II - Nyoiseau\, Segré-en-Anjou Bleu\, 49500\, France
ATTACH;FMTTYPE=image/png:https://le739.org/wp-content/uploads/2026/01/fontaine-rosalie-2.png
ORGANIZER;CN="Le 739":MAILTO:contact@le739.org
END:VEVENT
BEGIN:VEVENT
DTSTART;TZID=Europe/Paris:20260529T101500
DTEND;TZID=Europe/Paris:20260529T114500
DTSTAMP:20260422T125522
CREATED:20260212T102112Z
LAST-MODIFIED:20260212T102112Z
UID:4469-1780049700-1780055100@le739.org
SUMMARY:Atelier "Dance & Pilates" - VIRÀG Éri
DESCRIPTION:Un atelier « Dance & Pilates » avec VIRÀG Éri aura lieu à Centrale 7 le vendredi 29 mai 2026 de 10h15 à 11h45. \n		\n				\n					\n				\n				\n									\n					\n						\n									RESERVATION
URL:https://le739.org/agenda/atelier-dance-pilates-virag-eri-4/
LOCATION:Centrale 7\, Rue du Carreau de Bois II - Nyoiseau\, Segré-en-Anjou Bleu\, 49500\, France
ATTACH;FMTTYPE=image/webp:https://le739.org/wp-content/uploads/2026/01/danse-virag.webp
ORGANIZER;CN="Le 739":MAILTO:contact@le739.org
END:VEVENT
END:VCALENDAR