BEGIN:VCALENDAR
VERSION:2.0
PRODID:-//Le 739 - ECPv6.15.20//NONSGML v1.0//EN
CALSCALE:GREGORIAN
METHOD:PUBLISH
X-ORIGINAL-URL:https://le739.org
X-WR-CALDESC:Évènements pour Le 739
REFRESH-INTERVAL;VALUE=DURATION:PT1H
X-Robots-Tag:noindex
X-PUBLISHED-TTL:PT1H
BEGIN:VTIMEZONE
TZID:Europe/Paris
BEGIN:DAYLIGHT
TZOFFSETFROM:+0100
TZOFFSETTO:+0200
TZNAME:CEST
DTSTART:20250330T010000
END:DAYLIGHT
BEGIN:STANDARD
TZOFFSETFROM:+0200
TZOFFSETTO:+0100
TZNAME:CET
DTSTART:20251026T010000
END:STANDARD
BEGIN:DAYLIGHT
TZOFFSETFROM:+0100
TZOFFSETTO:+0200
TZNAME:CEST
DTSTART:20260329T010000
END:DAYLIGHT
BEGIN:STANDARD
TZOFFSETFROM:+0200
TZOFFSETTO:+0100
TZNAME:CET
DTSTART:20261025T010000
END:STANDARD
BEGIN:DAYLIGHT
TZOFFSETFROM:+0100
TZOFFSETTO:+0200
TZNAME:CEST
DTSTART:20270328T010000
END:DAYLIGHT
BEGIN:STANDARD
TZOFFSETFROM:+0200
TZOFFSETTO:+0100
TZNAME:CET
DTSTART:20271031T010000
END:STANDARD
END:VTIMEZONE
BEGIN:VEVENT
DTSTART;TZID=Europe/Paris:20260120T140000
DTEND;TZID=Europe/Paris:20260120T160000
DTSTAMP:20260422T212927
CREATED:20260109T084041Z
LAST-MODIFIED:20260116T091248Z
UID:3724-1768917600-1768924800@le739.org
SUMMARY:Atelier Teinture Naturelle - Cécile DROYAUX
DESCRIPTION:Un atelier de Teinture naturelle avec Cécile DROYAUX aura lieu à Centrale 7 le mardi 20 janvier 2026 de 14h00 à 16h00. \n		\n				\n					\n				\n				\n									\n					\n						\n									RESERVATION
URL:https://le739.org/agenda/atelier-teinture-naturelle-cecile-droyaux/
LOCATION:Centrale 7\, Rue du Carreau de Bois II - Nyoiseau\, Segré-en-Anjou Bleu\, 49500\, France
ATTACH;FMTTYPE=image/webp:https://le739.org/wp-content/uploads/2026/01/cecile-droyaux-teinture.webp
ORGANIZER;CN="Le 739":MAILTO:contact@le739.org
END:VEVENT
BEGIN:VEVENT
DTSTART;TZID=Europe/Paris:20260120T140000
DTEND;TZID=Europe/Paris:20260120T160000
DTSTAMP:20260422T212927
CREATED:20260109T142440Z
LAST-MODIFIED:20260116T091236Z
UID:3825-1768917600-1768924800@le739.org
SUMMARY:Atelier "Arts plastiques pour de la scénographie" - Patrick ROCARD
DESCRIPTION:Un atelier Arts plastiques pour de la scénographie ( Peinture & Sculpture) avec Patrick ROCARD  aura lieu à Centrale 7 le mardi 20 janvier 2026 de 14h00 à 16h00. \n		\n				\n					\n				\n				\n									\n					\n						\n									RESERVATION
URL:https://le739.org/agenda/atelier-art-plastiques-pour-de-la-scenographie-patrick-rocard/
LOCATION:Centrale 7\, Rue du Carreau de Bois II - Nyoiseau\, Segré-en-Anjou Bleu\, 49500\, France
ATTACH;FMTTYPE=image/webp:https://le739.org/wp-content/uploads/2026/01/atelier-p-rocard.webp
ORGANIZER;CN="Le 739":MAILTO:contact@le739.org
END:VEVENT
BEGIN:VEVENT
DTSTART;TZID=Europe/Paris:20260122T163000
DTEND;TZID=Europe/Paris:20260122T173000
DTSTAMP:20260422T212927
CREATED:20260115T094229Z
LAST-MODIFIED:20260116T091210Z
UID:3918-1769099400-1769103000@le739.org
SUMMARY:Atelier « Patrimoine & Jeu d'écriture » – Léa BLAIRE
DESCRIPTION:Un atelier « Patrimoine & Jeu d’écriture » avec Léa BLAIRE aura lieu à EnVol le jeudi 22 janvier 2026 de 17h30 à 18h30. \n		\n				\n					\n				\n				\n									\n					\n						\n									RESERVATION
URL:https://le739.org/agenda/atelier-patrimoine-jeu-decriture-lea-blaire/
LOCATION:Association EnVol\, 39 rue Charles de Gaulle\, Segré-en-Anjou-Bleu\, 49500\, France
ATTACH;FMTTYPE=image/jpeg:https://le739.org/wp-content/uploads/2026/01/lea-ecriture.jpg
ORGANIZER;CN="Le 739":MAILTO:contact@le739.org
END:VEVENT
BEGIN:VEVENT
DTSTART;TZID=Europe/Paris:20260122T183000
DTEND;TZID=Europe/Paris:20260122T193000
DTSTAMP:20260422T212927
CREATED:20260115T092627Z
LAST-MODIFIED:20260116T091149Z
UID:3913-1769106600-1769110200@le739.org
SUMMARY:Atelier "Voyage Sonore" - Léa BLAIRE
DESCRIPTION:Un atelier « Voyage Sonore » avec Léa BLAIRE aura lieu à EnVol le jeudi 22 janvier 2026 de 18h30 à 19h30. \n		\n				\n					\n				\n				\n									\n					\n						\n									RESERVATION
URL:https://le739.org/agenda/atelier-voyage-sonore-lea-blaire/
LOCATION:Association EnVol\, 39 rue Charles de Gaulle\, Segré-en-Anjou-Bleu\, 49500\, France
ATTACH;FMTTYPE=image/jpeg:https://le739.org/wp-content/uploads/2026/01/lea-blaire_chant-calendar.jpg
ORGANIZER;CN="Le 739":MAILTO:contact@le739.org
END:VEVENT
BEGIN:VEVENT
DTSTART;TZID=Europe/Paris:20260124T100000
DTEND;TZID=Europe/Paris:20260124T120000
DTSTAMP:20260422T212927
CREATED:20260115T094848Z
LAST-MODIFIED:20260116T091115Z
UID:3925-1769248800-1769256000@le739.org
SUMMARY:Atelier "créations textile & tenues pour un défilé" - Manon RENAULT
DESCRIPTION:Un atelier « créations textile & tenues pour un défilé » avec Manon RENAULT aura lieu à EnVol le samedi 24 janvier 2026 de 10h00 à 12h00. \n		\n				\n					\n				\n				\n									\n					\n						\n									RESERVATION
URL:https://le739.org/agenda/atelier-creations-textile-tenues-pour-un-defile-manon-renault/
LOCATION:Association EnVol\, 39 rue Charles de Gaulle\, Segré-en-Anjou-Bleu\, 49500\, France
ATTACH;FMTTYPE=image/webp:https://le739.org/wp-content/uploads/2026/01/manon-renault-defile.webp
ORGANIZER;CN="Le 739":MAILTO:contact@le739.org
END:VEVENT
BEGIN:VEVENT
DTSTART;TZID=Europe/Paris:20260128T140000
DTEND;TZID=Europe/Paris:20260128T160000
DTSTAMP:20260422T212927
CREATED:20260115T100824Z
LAST-MODIFIED:20260116T091044Z
UID:3931-1769608800-1769616000@le739.org
SUMMARY:Atelier "créations textile & tenues pour un défilé" - Manon RENAULT
DESCRIPTION:Un atelier « créations textile & tenues pour un défilé » avec Manon RENAULT aura lieu à Centrale 7 le mercredi 28 janvier 2026 de 14h00 à 16h00. \n		\n				\n					\n				\n				\n									\n					\n						\n									RESERVATION
URL:https://le739.org/agenda/atelier-creations-textile-tenues-pour-un-defile-manon-renault-2/
LOCATION:Centrale 7\, Rue du Carreau de Bois II - Nyoiseau\, Segré-en-Anjou Bleu\, 49500\, France
ATTACH;FMTTYPE=image/webp:https://le739.org/wp-content/uploads/2026/01/manon-renault-defile.webp
ORGANIZER;CN="Le 739":MAILTO:contact@le739.org
END:VEVENT
BEGIN:VEVENT
DTSTART;TZID=Europe/Paris:20260128T140000
DTEND;TZID=Europe/Paris:20260128T160000
DTSTAMP:20260422T212927
CREATED:20260115T101545Z
LAST-MODIFIED:20260116T091019Z
UID:3935-1769608800-1769616000@le739.org
SUMMARY:Atelier "Fond de scène" - Paul KWIATWOKSKI
DESCRIPTION:Un atelier « Fond de scène » avec Paul KWIATWOKSKI  aura lieu à Centrale 7 le mercredi 28 janvier 2026 de 14h00 à 16h00. \n		\n				\n					\n				\n				\n									\n					\n						\n									RESERVATION
URL:https://le739.org/agenda/atelier-fond-de-scene-paul-kwiatwokski/
LOCATION:Centrale 7\, Rue du Carreau de Bois II - Nyoiseau\, Segré-en-Anjou Bleu\, 49500\, France
ATTACH;FMTTYPE=image/webp:https://le739.org/wp-content/uploads/2026/01/paul-k-scene.webp
ORGANIZER;CN="Le 739":MAILTO:contact@le739.org
END:VEVENT
END:VCALENDAR